Workbook
Name _ftn1: 'Compte justificatiu'!$A$149
Name _ftn2: 'Compte justificatiu'!$A$150
Name _ftn3: 'Compte justificatiu'!#REF!
Name _ftn4: 'Compte justificatiu'!#REF!
Name _ftn5: 'Compte justificatiu'!#REF!
Name _ftnref1: 'Compte justificatiu'!$A$122
Name _ftnref2: 'Compte justificatiu'!$A$144
Name _ftnref3: 'Compte justificatiu'!#REF!
Name _ftnref4: 'Compte justificatiu'!#REF!
Name _ftnref5: 'Compte justificatiu'!#REF!
Name AA: 'Relacio despeses full 1'!$I$148
Name Casilla1: 'Compte justificatiu'!#REF!
Name Casilla3: 'Compte justificatiu'!#REF!
Name Listadesplegable1: 'Compte justificatiu'!#REF!
Name OLE_LINK1: 'Compte justificatiu'!#REF!
Name Text9999: 'Relacio despeses full 1'!$H$150
Name Texto107: 'Compte justificatiu'!#REF!
Name Texto111: 'Compte justificatiu'!#REF!
Name Texto112: 'Compte justificatiu'!#REF!
Name Texto113: 'Compte justificatiu'!#REF!
Name Texto114: 'Compte justificatiu'!#REF!
Name Texto115: 'Compte justificatiu'!#REF!
Name Texto116: 'Compte justificatiu'!#REF!
Name Texto117: 'Compte justificatiu'!#REF!
Name Texto118: 'Compte justificatiu'!#REF!
Name Texto119: 'Compte justificatiu'!#REF!
Name Texto120: 'Compte justificatiu'!#REF!
Name Texto121: 'Compte justificatiu'!#REF!
Name Texto122: 'Compte justificatiu'!#REF!
Name Texto123: 'Compte justificatiu'!#REF!
Name Texto129: 'Compte justificatiu'!#REF!
Name Texto212: 'Compte justificatiu'!#REF!
Name Texto237: 'Compte justificatiu'!#REF!
Name Texto244: 'Compte justificatiu'!#REF!
Name Texto246: 'Compte justificatiu'!#REF!
Name Texto254: 'Compte justificatiu'!#REF!
Name Texto255: 'Compte justificatiu'!#REF!
Name Texto256: 'Compte justificatiu'!#REF!
Name Texto257: 'Compte justificatiu'!#REF!
Name Texto258: 'Compte justificatiu'!#REF!
Name Texto259: 'Compte justificatiu'!#REF!
Name Texto260: 'Compte justificatiu'!#REF!
Name Texto261: 'Compte justificatiu'!#REF!
Name Texto262: 'Compte justificatiu'!#REF!
Name Texto27: 'Compte justificatiu'!$J$123
Name Texto273: 'Compte justificatiu'!#REF!
Name Texto275: 'Compte justificatiu'!#REF!
Name Texto276: 'Compte justificatiu'!#REF!
Name Texto277: 'Compte justificatiu'!#REF!
Name Texto278: 'Compte justificatiu'!#REF!
Name Texto279: 'Compte justificatiu'!#REF!
Name Texto280: 'Compte justificatiu'!#REF!
Name Texto281: 'Compte justificatiu'!#REF!
Name Texto282: 'Compte justificatiu'!#REF!
Name Texto283: 'Compte justificatiu'!#REF!
Name Texto284: 'Compte justificatiu'!#REF!
Name Texto285: 'Compte justificatiu'!#REF!
Name Texto286: 'Compte justificatiu'!#REF!
Name Texto287: 'Compte justificatiu'!#REF!
Name Texto288: 'Compte justificatiu'!#REF!

Sheet Compte justificatiu
C2: AJUNTAMENT DE L'ESCALA
A5: COMPTE JUSTIFICATIU SIMPLIFICAT SUBVENCIONS (Subv. inferiors a 60.000 euros)
A6: Àrea de:
B7: Cultura | E7: Educació | G7: Joventut | J7: Promoció econòmica i turística
B8: Esports | E8: Atenció social | G8: Alcaldia | J8: Altres
A10: CERTIFICACIÓ DE REALITZACIÓ DE L'ACTUACIÓ
A12: Beneficiari
A13: Entitat: | F13: NIF/CIF: | M13: Cultura
A14: Adreça: | F14: Població: | M14: Promoció econòmica
A15: CP: | C15: Telf.: | F15: Nº registre d'entrada/Expedient: | M15: Esports
A16: correu electrònic | M16: Turisme
A18: Representant: | M18: Atenció Social
A19: Representant: | F19: Càrrec: | M19: Ensenyament
A20: Adreça: | F20: Població: | M20: Patrimoni
A21: CP: | C21: Telf.: | F21: Nº registre d'entrada/Expedient: | M21: Solidaritat i cooperació
A22: correu electrònic | M22: Turisme
A24: Actuació subvencionada
A25: Data resolució d’atorgament: | F25: Data signatura conveni:
A26: Línia d’ajut:
A27: Títol de l’actuació:
A28: Núm. Expedient
A29: Cost de l’actuació a realitzar: | E29: € | F29: Import de la subvenció: | I29: €
A30: En/Na ………………………………………..
A31: Representant de l'entitat/associació/beneficiari
A32: CERTIFICO:
A34: Que havent-se obtingut per part de l'Ajuntament de L'Escala la subvenció que es detalla anteriorment aquesta ha estat acceptada i l’actuació subvencionada s’ha realitzat amb compliment de totes les obligacions imposades en el conveni regulador de la seva concessió.
A35: Que els justificants, inclosos en la relació de despeses adjunta tenen una relació directa amb l'objecte de l’actuació subvencionada.
A36: Que la despesa de l'actuació ha estat pagada amb fons de l'entitat i que compta amb els documents acreditatius corresponents.
A37: Que en els imports dels justificants consignats en la relació de despeses adjunta no s’ha inclòs l’IVA deduïble.
A38: Que tots els documents originals que consten a la relació de despeses adjunta, es troben arxivats i a disposició de l’Ajuntament de L'Escala, i seran conservats per un període no inferior a 4 anys.
A39: Que aquesta Entitat està al corrent de les obligacions tributàries amb l’Ajuntament de L'Escala i Hisenda i al corrent de les obligacions amb la Seguretat Social.
A40: Finalment s’autoritza a l’Ajuntament de L'Escala a obtenir les corresponents certificacions telemàtiques de l’Agencia Estatal d’Administració Tributària i de la Seguretat Social.
A41: I, perquè així consti, lliuro aquest certificat amb el vistiplau del president de l’entitat beneficiaria.
A43: …………(Població)…………………………, | E43: …… de …………… de 20..
A44: El/La Representant de l'entitat/associació/beneficiari
A48: Documents que s’acompanyen:
C55: AJUNTAMENT DE L'ESCALA
A59: MEMÒRIA DE REALITZACIÓ DE L’ACTUACIÓ
A61: Descripció de les activitats realitzades (temporalització, actes realitzats...):
A62: [1]
...

Sheet Relacio despeses full 1
C2: AJUNTAMENT DE L'ESCALA
A5: COMPTE JUSTIFICATIU SUBVENCIONS
A7: MEMÒRIA ECONÒMICA DE L’ACTUACIÓ - RELACIÓ DE DESPESES (full 1)
A9: Núm. Ordre | B9: Tipus de document [2] | C9: Núm. de document [3] | D9: Data del document o període nòmina | E9: Proveïdor o Tercer | F9: NIF o CIF | G9: Objecte de les factures [4] | H9: Import [5] | I9: % imputat [6] | J9: Import imputat [5]
A12: 1 | H12: 0 | I12: 0 | J12: =H12*I12 -> 0
A13: 2 | H13: 0 | I13: 0 | J13: =H13*I13 -> 0
A14: 3 | H14: 0 | I14: 0 | J14: =H14*I14 -> 0
A15: 4 | H15: 0 | I15: 0 | J15: =H15*I15 -> 0
A16: 5 | H16: 0 | I16: 0 | J16: =H16*I16 -> 0
A17: 6 | H17: 0 | I17: 0 | J17: =H17*I17 -> 0
A18: 7 | H18: 0 | I18: 0 | J18: =H18*I18 -> 0
A19: 8 | H19: 0 | I19: 0 | J19: =H19*I19 -> 0
A20: 9 | H20: 0 | I20: 0 | J20: =H20*I20 -> 0
A21: 10 | H21: 0 | I21: 0 | J21: =H21*I21 -> 0
A22: Total de la despesa | H22: =SUM(H12:H21) -> 0 | J22: =SUM(J12:J21) -> 0
A24: [2] Indicar si són factures, nòmines, butlletins de cotització Seguretat Social, desplaçaments...
A25: [3] Indicar el número de factura.
A26: [4] Detallar l’objecte de la factura relacionant-lo amb l’activitat subvencionada.
A27: [5] Només es pot incloure l’IVA que no sigui deduïble. En cas de nòmina, l’import que s’ha d’indicar és l’import total meritat (salari net, IRPF i aportació del treballador a la Seguretat Social).
A28: [6] Indicar imputació parcial de la despesa (< 100 %)
A29: NOTA: En cas que necessiteu més espai per relacionar les despeses, podeu utilitzar l'Annex dels fulls següents
A31: …………(Població)…………………………, | E31: …… de …………… de 20..
A32: El/La Representant de l'entitat/associació/beneficiari

Sheet Relacio despeses full 2
C2: AJUNTAMENT DE L'ESCALA
A5: COMPTE JUSTIFICATIU SUBVENCIONS
A7: MEMÒRIA ECONÒMICA DE L’ACTUACIÓ - RELACIÓ DE DESPESES (full 2)
A9: Núm. Ordre | B9: Tipus de document [2] | C9: Núm. de document [3] | D9: Data del document o període nòmina | E9: Proveïdor o Tercer | F9: NIF o CIF | G9: Objecte de les factures [4] | H9: Import [5] | I9: % imputat [6] | J9: Import imputat [5]
A12: Total full anterior | H12: ='Relacio despeses full 1'!H22 -> 0 | J12: ='Relacio despeses full 1'!J22 -> 0
A13: 1 | H13: 0 | I13: 0 | J13: =H13*I13 -> 0
A14: 2 | H14: 0 | I14: 0 | J14: =H14*I14 -> 0
A15: 3 | H15: 0 | I15: 0 | J15: =H15*I15 -> 0
A16: 4 | H16: 0 | I16: 0 | J16: =H16*I16 -> 0
A17: 5 | H17: 0 | I17: 0 | J17: =H17*I17 -> 0
A18: 6 | H18: 0 | I18: 0 | J18: =H18*I18 -> 0
A19: 7 | H19: 0 | I19: 0 | J19: =H19*I19 -> 0
A20: 8 | H20: 0 | I20: 0 | J20: =H20*I20 -> 0
A21: 9 | H21: 0 | I21: 0 | J21: =H21*I21 -> 0
A22: 10 | H22: 0 | I22: 0 | J22: =H22*I22 -> 0
A23: Total de la despesa | H23: =SUM(H12:H22) -> 0 | J23: =SUM(J12:J22) -> 0
A25: [2] Indicar si són factures, nòmines, butlletins de cotització Seguretat Social, desplaçaments...
A26: [3] Indicar el número de factura.
A27: [4] Detallar l’objecte de la factura relacionant-lo amb l’activitat subvencionada.
A28: [5] Només es pot incloure l’IVA que no sigui deduïble. En cas de nòmina, l’import que s’ha d’indicar és l’import total meritat (salari net, IRPF i aportació del treballador a la Seguretat Social).
A29: [6] Indicar imputació parcial de la despesa (< 100 %)
A30: NOTA: En cas que necessiteu més espai per relacionar les despeses, podeu utilitzar l'Annex dels fulls següents
A32: …………(Població)…………………………, | E32: …… de …………… de 20..
A33: El/La Representant de l'entitat/associació/beneficiari

Sheet Relacio despeses full 3
C2: AJUNTAMENT DE L'ESCALA
A5: COMPTE JUSTIFICATIU SUBVENCIONS
A7: MEMÒRIA ECONÒMICA DE L’ACTUACIÓ - RELACIÓ DE DESPESES (full 3)
A9: Núm. Ordre | B9: Tipus de document [2] | C9: Núm. de document [3] | D9: Data del document o període nòmina | E9: Proveïdor o Tercer | F9: NIF o CIF | G9: Objecte de les factures [4] | H9: Import [5] | I9: % imputat [6] | J9: Import imputat [5]
A12: Total full anterior | H12: ='Relacio despeses full 2'!H23 -> 0 | J12: ='Relacio despeses full 2'!J23 -> 0
A13: 1 | H13: 0 | I13: 0 | J13: =H13*I13 -> 0
A14: 2 | H14: 0 | I14: 0 | J14: =H14*I14 -> 0
A15: 3 | H15: 0 | I15: 0 | J15: =H15*I15 -> 0
A16: 4 | H16: 0 | I16: 0 | J16: =H16*I16 -> 0
A17: 5 | H17: 0 | I17: 0 | J17: =H17*I17 -> 0
A18: 6 | H18: 0 | I18: 0 | J18: =H18*I18 -> 0
A19: 7 | H19: 0 | I19: 0 | J19: =H19*I19 -> 0
A20: 8 | H20: 0 | I20: 0 | J20: =H20*I20 -> 0
A21: 9 | H21: 0 | I21: 0 | J21: =H21*I21 -> 0
A22: 10 | H22: 0 | I22: 0 | J22: =H22*I22 -> 0
A23: Total de la despesa | H23: =SUM(H12:H22) -> 0 | J23: =SUM(J12:J22) -> 0
A25: [2] Indicar si són factures, nòmines, butlletins de cotització Seguretat Social, desplaçaments...
A26: [3] Indicar el número de factura.
A27: [4] Detallar l’objecte de la factura relacionant-lo amb l’activitat subvencionada.
A28: [5] Només es pot incloure l’IVA que no sigui deduïble. En cas de nòmina, l’import que s’ha d’indicar és l’import total meritat (salari net, IRPF i aportació del treballador a la Seguretat Social).
A29: [6] Indicar imputació parcial de la despesa (< 100 %)
A30: NOTA: En cas que necessiteu més espai per relacionar les despeses, podeu utilitzar l'Annex dels fulls següents
A32: …………(Població)…………………………, | E32: …… de …………… de 20..
A33: El/La Representant de l'entitat/associació/beneficiari

Sheet Relacio despeses full 4
C2: AJUNTAMENT DE L'ESCALA
A5: COMPTE JUSTIFICATIU SUBVENCIONS
A7: MEMÒRIA ECONÒMICA DE L’ACTUACIÓ - RELACIÓ DE DESPESES (full 4)
A9: Núm. Ordre | B9: Tipus de document [2] | C9: Núm. de document [3] | D9: Data del document o període nòmina | E9: Proveïdor o Tercer | F9: NIF o CIF | G9: Objecte de les factures [4] | H9: Import [5] | I9: % imputat [6] | J9: Import imputat [5]
A12: Total full anterior | H12: ='Relacio despeses full 3'!H23 -> 0 | J12: ='Relacio despeses full 3'!J23 -> 0
A13: 1 | H13: 0 | I13: 0 | J13: =H13*I13 -> 0
A14: 2 | H14: 0 | I14: 0 | J14: =H14*I14 -> 0
A15: 3 | H15: 0 | I15: 0 | J15: =H15*I15 -> 0
A16: 4 | H16: 0 | I16: 0 | J16: =H16*I16 -> 0
A17: 5 | H17: 0 | I17: 0 | J17: =H17*I17 -> 0
A18: 6 | H18: 0 | I18: 0 | J18: =H18*I18 -> 0
A19: 7 | H19: 0 | I19: 0 | J19: =H19*I19 -> 0
A20: 8 | H20: 0 | I20: 0 | J20: =H20*I20 -> 0
A21: 9 | H21: 0 | I21: 0 | J21: =H21*I21 -> 0
A22: 10 | H22: 0 | I22: 0 | J22: =H22*I22 -> 0
A23: Total de la despesa | H23: =SUM(H12:H22) -> 0 | J23: =SUM(J12:J22) -> 0
A25: [2] Indicar si són factures, nòmines, butlletins de cotització Seguretat Social, desplaçaments...
A26: [3] Indicar el número de factura.
A27: [4] Detallar l’objecte de la factura relacionant-lo amb l’activitat subvencionada.
A28: [5] Només es pot incloure l’IVA que no sigui deduïble. En cas de nòmina, l’import que s’ha d’indicar és l’import total meritat (salari net, IRPF i aportació del treballador a la Seguretat Social).
A29: [6] Indicar imputació parcial de la despesa (< 100 %)
A30: NOTA: En cas que necessiteu més espai per relacionar les despeses, podeu utilitzar l'Annex dels fulls següents
A32: …………(Població)…………………………, | E32: …… de …………… de 20..
A33: El/La Representant de l'entitat/associació/beneficiari
